BEGIN:VCALENDAR
VERSION:2.0
PRODID:-//Committee on Homeland Security - ECPv6.10.3//NONSGML v1.0//EN
CALSCALE:GREGORIAN
METHOD:PUBLISH
X-WR-CALNAME:Committee on Homeland Security
X-ORIGINAL-URL:https://homeland.house.gov
X-WR-CALDESC:Events for Committee on Homeland Security
REFRESH-INTERVAL;VALUE=DURATION:PT1H
X-Robots-Tag:noindex
X-PUBLISHED-TTL:PT1H
BEGIN:VTIMEZONE
TZID:America/New_York
BEGIN:DAYLIGHT
TZOFFSETFROM:-0500
TZOFFSETTO:-0400
TZNAME:EDT
DTSTART:20260308T070000
END:DAYLIGHT
BEGIN:STANDARD
TZOFFSETFROM:-0400
TZOFFSETTO:-0500
TZNAME:EST
DTSTART:20261101T060000
END:STANDARD
END:VTIMEZONE
BEGIN:VEVENT
DTSTART;TZID=America/New_York:20260113T100000
DTEND;TZID=America/New_York:20260113T130000
DTSTAMP:20260423T075410
CREATED:20260107T153828Z
LAST-MODIFIED:20260113T145240Z
UID:10000161-1768298400-1768309200@homeland.house.gov
SUMMARY:Defense through Offense: Examining U.S. Cyber Capabilities to Deter and Disrupt Malign Foreign Activity Targeting the Homeland
DESCRIPTION:DETAILS: \nWhat: A Subcommittee on Cybersecurity and Infrastructure Protection hearing entitled\, “Defense through Offense: Examining U.S. Cyber Capabilities to Deter and Disrupt Malign Foreign Activity Targeting the Homeland.” \nWhen: January 13\, 2026\, at 10:00 am EST \nWhere: 310 Cannon House Office Building \nJoe Lin\nCo-Founder and Chief Executive Officer\, Twenty Technologies\, Inc. \nEmily Harding\nVice President\, Defense and Security Department\, Center for Strategic and International Studies \nFrank Cilluffo\nDirector\, McCrary Institute for Cyber and Critical Infrastructure Security\, Auburn University \nDrew Bagley\nChief Privacy Officer\, CrowdStrike \nWitness testimony can be found here. The hearing will be open to the public and press. Press must be congressionally credentialed and should RSVP in advance.
URL:https://homeland.house.gov/hearing/defense-through-offense-examining-u-s-cyber-capabilities-to-deter-and-disrupt-malign-foreign-activity-targeting-the-homeland/
END:VEVENT
BEGIN:VEVENT
DTSTART;TZID=America/New_York:20260121T100000
DTEND;TZID=America/New_York:20260121T130000
DTSTAMP:20260423T075410
CREATED:20260114T233242Z
LAST-MODIFIED:20260121T151342Z
UID:10000162-1768989600-1769000400@homeland.house.gov
SUMMARY:Oversight of the Department of Homeland Security: CISA\, TSA\, S&T
DESCRIPTION:DETAILS: \nWhat: A House Committee on Homeland Security hearing entitled\, “Oversight of the Department of Homeland Security: CISA\, TSA\, S&T.” \nWhen: Wednesday\, January 21\, 2026\, at 10:00 AM EST \nWhere: 310 Cannon House Office Building \nWITNESSES: \nDr. Madhu Gottumukkala\nActing Director\, Cybersecurity and Infrastructure Security Agency \nMs. Ha Nguyen McNeill\nSenior Official Performing the Duties of the Administrator\, Transportation Security Administration \nMr. Pedro Allende\nUnder Secretary\, Science & Technology Directorate \nWitness testimony can be found here. The hearing will be open to the public and press. Press must be congressionally credentialed and should RSVP in advance.
URL:https://homeland.house.gov/hearing/oversight-of-the-department-of-homeland-security-cisa-tsa-st/
END:VEVENT
BEGIN:VEVENT
DTSTART;TZID=America/New_York:20260122T100000
DTEND;TZID=America/New_York:20260122T130000
DTSTAMP:20260423T075410
CREATED:20260116T185339Z
LAST-MODIFIED:20260121T215123Z
UID:10000163-1769076000-1769086800@homeland.house.gov
SUMMARY:Smarter Borders\, Safer Nation: Expanding the Use of Non-Intrusive Inspection Technology
DESCRIPTION:DETAILS: \nWhat: A Subcommittee on Border Security and Enforcement hearing entitled\, “Smarter Borders\, Safer Nation: Expanding the Use of Non-Intrusive Inspection Technology.” \nWhen: Thursday\, January 22\, 2026\, at 10:00 AM ET \nWhere: 310 Cannon House Office Building \nWITNESSES: \nDiane Sabatino\nActing Executive Assistant Commissioner\, Office of Field Operations\, U.S. Customs and Border Protection \nHilary Benedict \nDirector\, Science\, Technology Assessments\, and Analytics\, U.S. Government Accountability Office \nWitness testimony can be found here. The hearing will be open to the public and press. Press must be congressionally credentialed and should RSVP in advance.
URL:https://homeland.house.gov/hearing/smarter-borders-safer-nation-expanding-the-use-of-non-intrusive-inspection-technology/
END:VEVENT
END:VCALENDAR