BEGIN:VCALENDAR
VERSION:2.0
PRODID:-//Committee on Homeland Security - ECPv6.10.3//NONSGML v1.0//EN
CALSCALE:GREGORIAN
METHOD:PUBLISH
X-WR-CALNAME:Committee on Homeland Security
X-ORIGINAL-URL:https://homeland.house.gov
X-WR-CALDESC:Events for Committee on Homeland Security
REFRESH-INTERVAL;VALUE=DURATION:PT1H
X-Robots-Tag:noindex
X-PUBLISHED-TTL:PT1H
BEGIN:VTIMEZONE
TZID:America/New_York
BEGIN:DAYLIGHT
TZOFFSETFROM:-0500
TZOFFSETTO:-0400
TZNAME:EDT
DTSTART:20250309T070000
END:DAYLIGHT
BEGIN:STANDARD
TZOFFSETFROM:-0400
TZOFFSETTO:-0500
TZNAME:EST
DTSTART:20251102T060000
END:STANDARD
END:VTIMEZONE
BEGIN:VEVENT
DTSTART;TZID=America/New_York:20251120T100000
DTEND;TZID=America/New_York:20251120T120000
DTSTAMP:20260423T105839
CREATED:20251118T185357Z
LAST-MODIFIED:20251124T153035Z
UID:10000152-1763632800-1763640000@homeland.house.gov
SUMMARY:An Examination of Foreign Adversary Threats to Subsea Cable Infrastructure
DESCRIPTION:DETAILS: \nWhat: A joint Subcommittee on Transportation and Maritime Security and Cybersecurity and Infrastructure Protection hearing entitled\, “Securing Global Communications: An Examination of Foreign Adversary Threats to Subsea Cable Infrastructure.” \nWhen: November 20\, 2025\, at 10:00 am EST \nWhere: 310 Cannon House Office Building  \nWITNESSES: \nTimothy Stronge\nChief Research Officer\, TeleGeography \nAlexander Botting\nSenior Director\, Global Security and Technology Strategy\, Venable LLP \nMatthew Kroenig\nSenior Director\, Scowcroft Center for Strategy and Security\, Atlantic Council \nKevin Frazier\nAI Innovation and Law Fellow\, University of Texas School of Law \n\nWitness testimony can be found here.
URL:https://homeland.house.gov/hearing/an-examination-of-foreign-adversary-threats-to-subsea-cable-infrastructure/
END:VEVENT
END:VCALENDAR