BEGIN:VCALENDAR
VERSION:2.0
PRODID:-//Committee on Homeland Security - ECPv6.10.3//NONSGML v1.0//EN
CALSCALE:GREGORIAN
METHOD:PUBLISH
X-WR-CALNAME:Committee on Homeland Security
X-ORIGINAL-URL:https://homeland.house.gov
X-WR-CALDESC:Events for Committee on Homeland Security
REFRESH-INTERVAL;VALUE=DURATION:PT1H
X-Robots-Tag:noindex
X-PUBLISHED-TTL:PT1H
BEGIN:VTIMEZONE
TZID:America/New_York
BEGIN:DAYLIGHT
TZOFFSETFROM:-0500
TZOFFSETTO:-0400
TZNAME:EDT
DTSTART:20250309T070000
END:DAYLIGHT
BEGIN:STANDARD
TZOFFSETFROM:-0400
TZOFFSETTO:-0500
TZNAME:EST
DTSTART:20251102T060000
END:STANDARD
END:VTIMEZONE
BEGIN:VEVENT
DTSTART;TZID=America/New_York:20251203T100000
DTEND;TZID=America/New_York:20251203T130000
DTSTAMP:20260423T092631
CREATED:20251125T171558Z
LAST-MODIFIED:20251204T194712Z
UID:10000153-1764756000-1764766800@homeland.house.gov
SUMMARY:When Badges Become Targets: How Anti-Law Enforcement Rhetoric Fuels Violence Against Officers
DESCRIPTION:DETAILS: \nWhat: A House Committee on Homeland Security hearing entitled\, “When Badges Become Targets: How Anti-Law Enforcement Rhetoric Fuels Violence Against Officers.” \nWhen: Wednesday\, December 3\, 2025\, at 10:00 AM ET \nWhere: 310 Cannon House Office Building \nWITNESSES: \nMichael Hughes\nExecutive Director\, Federal Law Enforcement Officers Association \nJonathan Thompson\nExecutive Director and CEO\, National Sheriffs’ Association \nPatrick Yoes\nNational President\, Fraternal Order of Police \nDaniel Hodges \nLaw Enforcement Officer\, D.C. Metropolitan Police Department\, Testifying as a Private Citizen \nWitness testimony can be found here. The hearing will be open to the public and press. Press must be congressionally credentialed and should RSVP in advance.
URL:https://homeland.house.gov/hearing/when-badges-become-targets-how-anti-law-enforcement-rhetoric-fuels-violence-against-officers/
END:VEVENT
END:VCALENDAR